Workbook

Sheet 申込書
A1: 株式会社ラクス 宛
A2: 以下の内容について同意の上、申し込みます。
A3: ※「Qanat Universe 利用規約」については「配配メールコネクタ」オプション申し込み時のみ確認、同意ください。
A4: ※「BIZMAPS利用規約」については「企業リストダウンロード」オプション申し込み時のみ確認、同意ください。
A5: ※「Eight サービス利用規約」「Eightプレミアム サービス利用規約」「Eight Team サービス利用規約」については「名刺管理」オプション申し込み時のみ確認、同意ください。
A6: ・「クラウドサービス利用約款」、「配配メールクラウドサービス利用特約」 | U6: https://terms.rakus.co.jp/cloud/terms_list.html
A7: ・「配配メールクラウドサービス料金表」 | U7: https://terms.rakus.co.jp/cloud/pdf/pricelist_haihaimail.pdf
A8: ・「個人情報の取扱いについて」 | U8: https://www.rakus.co.jp/pp/
A9: ・「Qanat Universe 利用規約」 | U9: https://jbsol.jbcc.co.jp/terms/qu_connect_b.html
A10: ・「BIZMAPS 利用規約」 | U10: https://biz-maps.com/terms
A11: ・「Eight サービス利用規約」 | U11: https://8card.net/kiyaku
A12: ・「Eightプレミアム サービス利用規約」 | U12: https://8card.net/kiyaku_premium
A13: ・「Eight Team サービス利用規約」 | U13: https://8card.net/kiyaku_company_premium
A14: ・ラクスは、クラウドサービス利用約款第２条第２項及び第３条第２項に基づき、本書によりお申し込みを受けるすべてのサービスの価格を改定することができるものとします。
A15: なお、価格改定の際は利用者に事前に通知するようにいたします。
A18: 配配メール オプション変更申込書
H19: FALSE
I20: （宛先） | P20: メールアドレス： | Q20: support@haihaimail.jp
D22: オプション追加 | N22: オプション解約
A24: (1) | B24: 申込日 | K24: 年 | P24: 月 | U24: 日
A27: (2) | B27: 契約者情報
B28: フリガナ
B29: 契約者名
B30: ※契約者名について、法人や団体としての契約の場合は、企業名・団体名を記載、 個人事業主・個人としての契約の場合は、個人の氏名を記載してください。
B31: 代表者名 | G31: 役職
G32: 氏名
B34: 住所 | G34: 郵便番号 | R34: 都道府県
G35: 市区町村以降
G36: ビル名
B37: 電話番号
B38: 担当者情報 | G38: 部署 | R38: フリガナ
R39: 氏名
B41: メールアドレス
G43: ※フリーアドレスでの登録はご遠慮いただいております。
A45: (3) | B45: 契約ID | H45: （ | O45: ） | Q45: ― | S45: （ | X45: ）
I46: アルファベットと数字 | T46: 数字
H47: ログイン後、画面右の一番上に表示される「契約ID」を記入して下さい。
A49: (4) | B49: オプション追加 | G49: ※(5)の開始希望日をご記載ください。
B50: 料金変更日 | K50: 年 | P50: 月 | U50: 日
C52: 注意事項 | D52: ・変更処理には、当社が本申込書を受領した日(当日17時まで)を含め、4営業日以上のお時間をいただいております。
...

Sheet 申込書項目
A1: 大分類 | B1: 小分類 | C1: 項目 | D1: 内容
A2: 申込書書式 | B2: 販売区分 | D2: 直販 | E2: ※直入力
A3: 申込書書式 | B3: プラン（専用/共用） | D3: 共用/専用 | E3: ※直入力
A4: 申込書書式 | B4: バージョン | D4: V15.0 | E4: ※直入力
A5: 変更内容 | B5: オプション追加 | D5: =IF(マスタ用!H2=TRUE,"○","×") -> ×
A6: 変更内容 | B6: オプション解約 | D6: =IF(マスタ用!H3=TRUE,"○","×") -> ×
A7: 申込日 | B7: 申込日 | C7: 年 | D7: =IF(申込書!G24<>"",申込書!G24,"")
A8: 申込日 | B8: 申込日 | C8: 月 | D8: =IF(申込書!M24<>"",申込書!M24,"")
A9: 申込日 | B9: 申込日 | C9: 日 | D9: =IF(申込書!R24<>"",申込書!R24,"")
A10: 契約者情報 | B10: 契約者名 | C10: フリガナ | D10: =IF(申込書!$G$28<>"",申込書!$G$28,"")
A11: 契約者情報 | B11: 契約者名 | D11: =IF(申込書!$G$29<>"",申込書!$G$29,"")
A12: 契約者情報 | B12: 住所 | C12: 郵便番号 | D12: =IF(申込書!$J$34<>"",申込書!$J$34,"")
A13: 契約者情報 | B13: 住所 | C13: 都道府県名 | D13: =IF(申込書!$W$34<>"",申込書!$W$34,"")
A14: 契約者情報 | B14: 住所 | C14: 市区町村以降 | D14: =IF(申込書!$J$35<>"",申込書!$J$35,"")
A15: 契約者情報 | B15: 住所 | C15: ビル名 | D15: =IF(申込書!$J$36<>"",申込書!$J$36,"")
A16: 契約者情報 | B16: 電話番号 | D16: =IF(申込書!$G$37<>"",申込書!$G$37,"")
A17: 契約者情報 | B17: FAX
A18: 契約者情報 | B18: 担当者情報 | C18: 役職
A19: 契約者情報 | B19: 担当者情報 | C19: 部署 | D19: =+IF(申込書!$J$38<>"",申込書!$J$38,"")
A20: 契約者情報 | B20: 担当者情報 | C20: 氏名 | D20: =+IF(申込書!$W$39<>"",申込書!$W$39,"")
A21: 契約者情報 | B21: 担当者情報 | C21: 名
A22: 契約者情報 | B22: 担当者情報 | C22: フリガナ | D22: =+IF(申込書!$W$38<>"",申込書!$W$38,"")
A23: 契約者情報 | B23: 担当者情報 | C23: ﾒｲ
A24: 契約者情報 | B24: メールアドレス | D24: =+IF(申込書!$G$41<>"",申込書!$G$41,"")
A25: 料金変更日 | B25: 課金開始日 | C25: 年 | D25: =IF(申込書!G50="","",申込書!G50*1)
A26: 料金変更日 | B26: 課金開始日 | C26: 月 | D26: =IF(申込書!M50="","",申込書!M50*1)
A27: 料金変更日 | B27: 課金開始日 | C27: 日 | D27: =IF(申込書!R50="","",申込書!R50*1)
A28: 解約日 | C28: 年 | D28: =IF(申込書!G122="","",申込書!G122*1)
A29: 解約日 | C29: 月 | D29: =IF(申込書!M122="","",申込書!M122*1)
A30: 解約日 | C30: 日 | D30: 末
A31: 解約同意 | B31: 解約同意 | D31: =+IF(マスタ用!H4=TRUE,"○","×") -> ×
A32: 契約ID | D32: =+IF(申込書!I45<>"",申込書!I45,"")
A33: 契約ID | D33: =+IF(申込書!T45<>"",申込書!T45,"")
A34: HTMLエディタ | D34: =+IF(AND(申込書!H63=TRUE,申込書!H133=TRUE),"NG",IF(申込書!H63=TRUE,"申込",IF(申込書!H133=TRUE,"解約","×"))) -> ×
A35: 多言語配信 | D35: =+IF(AND(申込書!H65=TRUE,申込書!H135=TRUE),"NG",IF(申込書!H65=TRUE,"申込",IF(申込書!H135=TRUE,"解約","×"))) -> ×
A36: 添付ファイル送信 | D36: =+IF(AND(申込書!H67=TRUE,申込書!H137=TRUE),"NG",IF(申込書!H67=TRUE,"申込",IF(申込書!H137=TRUE,"解約","×"))) -> ×
A37: START TLS
A38: API連携 | D38: =+IF(AND(申込書!H74=TRUE,申込書!H144=TRUE),"NG",IF(申込書!H74=TRUE,"申込",IF(申込書!H144=TRUE,"解約","×"))) -> ×
A39: デコメ容量アップ | D39: ×
A40: 顧客データベース項目追加 | D40: =+IF(AND(申込書!H60=TRUE,申込書!H130=TRUE),"NG",IF(申込書!H60=TRUE,"申込",IF(申込書!H130=TRUE,"解約","×"))) -> ×
...

Sheet マスタ用
B2: 北海道 | C2: =+YEAR(TODAY()) -> 2026 | D2: 1 | E2: 1 | G2: オプション追加 | H2: FALSE | I2: 1 | J2: 2 | K2: 3 | P2: ユーザ追加なし（10ユーザ以内で利用）
B3: 青森県 | C3: =+YEAR(TODAY())+1 -> 2027 | D3: 2 | E3: 2 | G3: オプション解約 | H3: FALSE | I3: 2 | J3: 3 | K3: 4 | P3: 5ユーザ追加
B4: 岩手県 | D4: 3 | E4: 3 | G4: 解約同意 | H4: FALSE | I4: 3 | J4: 4 | K4: 5 | P4: 10ユーザ追加
B5: 宮城県 | D5: 4 | E5: 4 | I5: 4 | J5: 5 | K5: 6 | P5: 15ユーザ追加
B6: 秋田県 | D6: 5 | E6: 5 | I6: 5 | J6: 6 | K6: 7 | P6: 20ユーザ追加
B7: 山形県 | D7: 6 | E7: 6 | I7: 6 | J7: 7 | K7: 8 | P7: 25ユーザ追加
B8: 福島県 | D8: 7 | E8: 7 | I8: 7 | J8: 8 | K8: 9 | P8: 30ユーザ追加
B9: 群馬県 | D9: 8 | E9: 8 | I9: 8 | J9: 9 | K9: 10 | P9: 35ユーザ追加
B10: 茨城県 | D10: 9 | E10: 9 | I10: 9 | J10: 10 | K10: 11 | P10: 40ユーザ追加
B11: 栃木県 | D11: 10 | E11: 10 | I11: 10 | J11: 11 | K11: 12 | P11: 50ユーザ追加
B12: 埼玉県 | D12: 11 | E12: 11 | I12: 11 | J12: 12 | K12: 1 | P12: 60ユーザ追加
B13: 千葉県 | D13: 12 | E13: 12 | I13: 12 | J13: 1 | K13: 2 | P13: 70ユーザ追加
B14: 東京都 | E14: 13 | P14: 80ユーザ追加
B15: 神奈川県 | E15: 14 | P15: 90ユーザ追加
B16: 新潟県 | E16: 15 | P16: 100ユーザ追加
B17: 富山県 | E17: 16 | P17: 110ユーザ追加
B18: 石川県 | E18: 17 | P18: 120ユーザ追加
B19: 福井県 | E19: 18 | P19: 130ユーザ追加
B20: 山梨県 | E20: 19 | P20: 140ユーザ追加
B21: 長野県 | E21: 20 | P21: 150ユーザ追加
B22: 岐阜県 | E22: 21
B23: 静岡県 | E23: 22
B24: 愛知県 | E24: 23
B25: 三重県 | E25: 24
B26: 滋賀県 | E26: 25
B27: 京都府 | E27: 26
B28: 大阪府 | E28: 27
B29: 兵庫県 | E29: 28
B30: 奈良県 | E30: 29
B31: 和歌山県 | E31: 30
B32: 鳥取県 | E32: 31
B33: 島根県
B34: 岡山県
B35: 広島県
B36: 山口県
B37: 徳島県
B38: 香川県
B39: 愛媛県
B40: 高知県
B41: 福岡県
...
