Workbook

Sheet 申込書
A1: 株式会社ラクス 宛
A2: 以下の内容について同意の上、申し込みます。
A3: ※「Qanat Universe 利用規約」については「配配メールコネクタ」オプション申し込み時のみ確認、同意ください。
A4: ※「BIZMAPS利用規約」については「企業リストダウンロード」オプション申し込み時のみ確認、同意ください。
A5: ※「Eight サービス利用規約」「Eightプレミアム サービス利用規約」「Eight Team サービス利用規約」については「名刺管理」オプション申し込み時のみ確認、同意ください。
A6: ・「クラウドサービス利用約款」、「配配メールクラウドサービス利用特約」 | U6: https://terms.rakus.co.jp/cloud/terms_list.html
A7: ・「配配メールクラウドサービス料金表」 | U7: https://terms.rakus.co.jp/cloud/pdf/pricelist_haihaimail.pdf
A8: ・「個人情報の取扱いについて」 | U8: https://www.rakus.co.jp/pp/
A9: ・「Qanat Universe 利用規約」 | U9: https://jbsol.jbcc.co.jp/terms/qu_connect_b.html
A10: ・「BIZMAPS 利用規約」 | U10: https://biz-maps.com/terms
A11: ・「Eight サービス利用規約」 | U11: https://8card.net/kiyaku
A12: ・「Eightプレミアム サービス利用規約」 | U12: https://8card.net/kiyaku_premium
A13: ・「Eight Team サービス利用規約」 | U13: https://8card.net/kiyaku_company_premium
A14: ・ラクスは、クラウドサービス利用約款第２条第２項及び第３条第２項に基づき、本書によりお申し込みを受けるすべてのサービスの価格を改定することができるものとします。
A15: なお、価格改定の際は利用者に事前に通知するようにいたします。
A18: 配配メール オプション変更申込書
H19: FALSE
I20: （宛先） | P20: メールアドレス： | Q20: support@haihaimail.jp
D22: オプション追加 | N22: オプション解約
A24: (1) | B24: 申込日 | K24: 年 | P24: 月 | U24: 日
A27: (2) | B27: 契約者情報
B28: フリガナ
B29: 契約者名
B30: ※契約者名について、法人や団体としての契約の場合は、企業名・団体名を記載、 個人事業主・個人としての契約の場合は、個人の氏名を記載してください。
B31: 代表者名 | G31: 役職
G32: 氏名
B34: 住所 | G34: 郵便番号 | R34: 都道府県
G35: 市区町村以降
G36: ビル名
B37: 電話番号
B38: 担当者情報 | G38: 部署 | R38: フリガナ
R39: 氏名
B41: メールアドレス
G43: ※フリーアドレスでの登録はご遠慮いただいております。
A45: (3) | B45: 契約ID | H45: （ | O45: ） | Q45: ― | S45: （ | X45: ）
I46: アルファベットと数字 | T46: 数字
H47: ログイン後、画面右の一番上に表示される「契約ID」を記入して下さい。
A49: (4) | B49: オプション追加 | G49: ※(5)の開始希望日をご記載ください。
B50: 料金変更日 | K50: 年 | P50: 月 | U50: 日
C52: 注意事項 | D52: ・変更処理には、当社が本申込書を受領した日(当日17時まで)を含め、4営業日以上のお時間をいただいております。
D53: ・なお月末月初は上記以上の日数がかかる場合がございます。
D54: ※「配配メールコネクタオプション」追加の場合は1日変更のみとなります。
D55: ※「企業リストダウンロードオプション」追加の場合は、変更までは当社が本申込書を受領した日を含め、最低6営業日が必要になります。
D56: ※「名刺管理オプション」追加の場合は1日変更のみとなります。
A59: (5) | B59: 申込オプション | H59: ※今回申し込むオプションにのみチェックを入れてください。
B60: 顧客データベース項目追加 （50項目 3,000円/月額) （100項目 5,000円/月額) | H60: FALSE | I60: 申し込む | R60: 通常30項目の顧客データベース項目上限数を引き上げることができます。
I62: FALSE | J62: 50項目 | M62: FALSE | N62: 100項目
B63: HTMLエディタ (3,000円/月額) | H63: FALSE | I63: 申し込む | R63: 専門的知識が必要なHTMLメールも、エディタ機能により直感的に作成
R64: できます。
B65: 多言語配信 （5,000円/月額） | H65: FALSE | I65: 申し込む | R65: 中国語・韓国語など、合計62言語でのメールが送信可能です。
B67: 添付ファイル送信 （3,000円/月額） | H67: FALSE | I67: 申し込む | R67: 最大10個、合計サイズ3MBまでのファイルを添付して送信できます。
R68: ファイルストレージと併用することはできません。
B69: ファイルストレージ （5,000円/月額） | H69: FALSE | I69: 申し込む | R69: 最大10個、合計サイズ3MBまでのファイルをダウンロード用のURLを
R70: 発行して送信できます。
R71: 添付ファイル送信と併用することはできません。
B72: IPアドレス制限 （3,000円/月額） | H72: FALSE | I72: 申し込む | R72: 管理画面へログインを許可するIPアドレスを設定できます。
H73: FALSE | R73: 設定する事で許可されたIPアドレス以外からはログイン出来ないように制御できます。
B74: API連携 （10,000円/月額） | H74: FALSE | I74: 申し込む | R74: 貴社の既存システム等、外部システムのデータベースと自動連携ができます。
R75: また、API接続を許可するIPアドレスの制限も可能になります。
B76: 配配メールコネクタ （kintone連携） （10,000円/月額） | H76: FALSE | I76: 申し込む | R76: こちらのオプションを利用するためにはAPI連携オプションが必要になります。 配配メールコネクタはJBCC社のQanatUniveraseを使用しています。
H78: FALSE | I78: 連携数 | M78: （ | P78: ） | Q78: 個
B79: 配配メールコネクタ（Salesforce連携） （20,000円/月額） | H79: FALSE | I79: 申し込む
H81: FALSE | I81: 連携数 | M81: （ | P81: ） | Q81: 個
B82: 配配メールコネクタのURL （設定引継対象のURLのみ記載） | R82: 既にコネクタを契約済みの方で、環境設定を引き継ぎたい方は コネクタのURLを記載ください。
B84: 日程調整プラス （10,000円/月額） | H84: FALSE | I84: 申し込む | R84: 日程調整機能で「複数名の予定を考慮した日程調整」や「フォーム連携」
H85: ※配配メールBridgeの申し込みが必要です。 | R85: などの機能が利用できます。
B86: 配信グループ追加 （共用_50ｸﾞﾙｰﾌﾟ 5,000円/月額） （専用_50ｸﾞﾙｰﾌﾟ 10,000円/月額） （専用_100ｸﾞﾙｰﾌﾟ 20,000円/月額） | H86: FALSE | I86: 申し込む | R86: 作成可能な配信グループを50個もしくは100個まで引き上げます。
R87: ※共用サーバは50グループまでとなります。
I88: FALSE | J88: 50グループ | M88: FALSE | N88: 100グループ | R88: ※専用サーバは50～100グループまでとなります。
B89: ユーザ数上限変更 （20ユーザ 3,000円/月額) （30ユーザ 6,000円/月額) （40ユーザ 9,000円/月額) （50ユーザ 12,000円/月額) | H89: FALSE | I89: 申し込む | R89: 配配メールPremium/ Bridge又は、専用サーバのユーザ数を、
H90: ※配配メールPremium/Bridge又は専用サーバの申込が必要です。 | R90: 通常の10ユーザから引き上げます。
I91: FALSE | J91: 20ユーザ | M91: FALSE | N91: 30ユーザ | R91: ※配配メールPremium/Bridgeは、20～30ユーザまでとなります。
I92: FALSE | J92: 40ユーザ | M92: FALSE | N92: 50ユーザ | R92: ※専用サーバは20～50ユーザまでとなります。
B93: 企業リストダウンロード （4,500円/月額） | H93: FALSE | I93: 申し込む(新規） | R93: 毎月1,000件の企業リストがダウンロードできるようになります。
R94: 企業リストダウンロードはアイドマ・ホールディングス社の
J95: （ | M95: ） | N95: 個 × 1,000件 | R95: 「BIZMAPS」を使用しております。
H96: FALSE | R96: ※BIZMAPSのアカウントは「契約者情報」のメールアドレスで作成されます。
H97: FALSE | I97: 申し込む（個数追加） | R97: 指定したメールアドレスが既にアカウント登録済みの場合は、
H98: FALSE | I98: 申し込む（個数削減） | R98: ご利用中のBIZMAPSアカウントにライセンスが付与されます。
R99: ※本オプションの最低利用期間は
R100: 利用開始日から12か月が経過する日の属する月の末日までとなります
H101: FALSE | J101: （ | M101: ） | N101: 個 × 1,000件 | R101: 本オプションの月額利用料金は日割り計算を行いません
B102: プレミアムサポートLite | H102: FALSE | I102: 申し込む | R102: プレミアムサポートとの併用はできません。
H103: ※配配メールBridgeの申し込みが必要です。
B104: プレミアムサポート （6回配信 200,000円/月額） | H104: FALSE | I104: 申し込む | R104: 本オプションの月額利用料金は日割り計算を行いません。
R105: プレミアムサポートLiteとの併用はできません。
R106: 6回までの配信は200,000円、7回以上は1回あたり25,000円でご利用いただけます。
R107: 配信は最大10回までとなり、10回の場合の料金は300,000円です。
I108: 配信回数 | M108: （ | P108: ） | Q108: 回 | R108: ※本オプションの最低利用期間は 利用開始日から12か月が経過する日の属する月の末日までとなります。
B109: 名刺管理 （35,000円/月） （ユーザ追加5ユーザ単位 2,500円/月 ※40ユーザ追加まで） （ユーザ追加10ユーザ単位 5,000円/月 ※150ユーザ追加まで） | H109: FALSE | I109: 申し込む（新規） | R109: 名刺管理オプション Powered by Eight Teamが利用できるようになります。
H110: FALSE | I110: 申し込む（ユーザ追加数変更） | R110: 10ユーザが標準で付帯されています。
H111: ※標準で10ユーザが付帯されています | R111: 申し込む（新規）もしくは申し込む（ユーザ追加数変更）いずれかにチェックをし、
H112: ※ユーザ数の追加を希望する際は以下より追加数を選択ください | R112: ご希望のユーザ追加数をプルダウンでご選択ください。
I113: ユーザ追加数 | R113: ※「名刺管理オプション」における「Eight Team」の利用内容の変更および解約については、
I114: 10ユーザ＋( | L114: ユーザ追加なし（10ユーザ以内で利用） | Q114: ) | R114: 当社所定の手続きにより当社に対して申込みを行う必要があります。
B115: ※上記価格は税別での表記となっております。
A117: (6) | B117: オプション解約
B118: 解約日 | G118: オプションの解約日は当社が本申込書を受領した月の翌月末日となります
B121: FALSE | C121: 上記のオプション解約日と異なる解約日を希望する（例：翌々月末解約など）
B122: 解約希望日 | K122: 年 | P122: 月 | R122: 末 | U122: 日
...

Sheet 申込書項目
A1: 大分類 | B1: 小分類 | C1: 項目 | D1: 内容
A2: 申込書書式 | B2: 販売区分 | D2: 直販 | E2: ※直入力
A3: 申込書書式 | B3: プラン（専用/共用） | D3: 共用/専用 | E3: ※直入力
A4: 申込書書式 | B4: バージョン | D4: V15.0 | E4: ※直入力
A5: 変更内容 | B5: オプション追加 | D5: =IF(マスタ用!H2=TRUE,"○","×") -> ×
A6: 変更内容 | B6: オプション解約 | D6: =IF(マスタ用!H3=TRUE,"○","×") -> ×
A7: 申込日 | B7: 申込日 | C7: 年 | D7: =IF(申込書!G24<>"",申込書!G24,"")
A8: 申込日 | B8: 申込日 | C8: 月 | D8: =IF(申込書!M24<>"",申込書!M24,"")
A9: 申込日 | B9: 申込日 | C9: 日 | D9: =IF(申込書!R24<>"",申込書!R24,"")
A10: 契約者情報 | B10: 契約者名 | C10: フリガナ | D10: =IF(申込書!$G$28<>"",申込書!$G$28,"")
A11: 契約者情報 | B11: 契約者名 | D11: =IF(申込書!$G$29<>"",申込書!$G$29,"")
A12: 契約者情報 | B12: 住所 | C12: 郵便番号 | D12: =IF(申込書!$J$34<>"",申込書!$J$34,"")
A13: 契約者情報 | B13: 住所 | C13: 都道府県名 | D13: =IF(申込書!$W$34<>"",申込書!$W$34,"")
A14: 契約者情報 | B14: 住所 | C14: 市区町村以降 | D14: =IF(申込書!$J$35<>"",申込書!$J$35,"")
A15: 契約者情報 | B15: 住所 | C15: ビル名 | D15: =IF(申込書!$J$36<>"",申込書!$J$36,"")
A16: 契約者情報 | B16: 電話番号 | D16: =IF(申込書!$G$37<>"",申込書!$G$37,"")
A17: 契約者情報 | B17: FAX
A18: 契約者情報 | B18: 担当者情報 | C18: 役職
A19: 契約者情報 | B19: 担当者情報 | C19: 部署 | D19: =+IF(申込書!$J$38<>"",申込書!$J$38,"")
A20: 契約者情報 | B20: 担当者情報 | C20: 氏名 | D20: =+IF(申込書!$W$39<>"",申込書!$W$39,"")
A21: 契約者情報 | B21: 担当者情報 | C21: 名
A22: 契約者情報 | B22: 担当者情報 | C22: フリガナ | D22: =+IF(申込書!$W$38<>"",申込書!$W$38,"")
A23: 契約者情報 | B23: 担当者情報 | C23: ﾒｲ
A24: 契約者情報 | B24: メールアドレス | D24: =+IF(申込書!$G$41<>"",申込書!$G$41,"")
A25: 料金変更日 | B25: 課金開始日 | C25: 年 | D25: =IF(申込書!G50="","",申込書!G50*1)
A26: 料金変更日 | B26: 課金開始日 | C26: 月 | D26: =IF(申込書!M50="","",申込書!M50*1)
A27: 料金変更日 | B27: 課金開始日 | C27: 日 | D27: =IF(申込書!R50="","",申込書!R50*1)
A28: 解約日 | C28: 年 | D28: =IF(申込書!G122="","",申込書!G122*1)
A29: 解約日 | C29: 月 | D29: =IF(申込書!M122="","",申込書!M122*1)
A30: 解約日 | C30: 日 | D30: 末
A31: 解約同意 | B31: 解約同意 | D31: =+IF(マスタ用!H4=TRUE,"○","×") -> ×
A32: 契約ID | D32: =+IF(申込書!I45<>"",申込書!I45,"")
A33: 契約ID | D33: =+IF(申込書!T45<>"",申込書!T45,"")
A34: HTMLエディタ | D34: =+IF(AND(申込書!H63=TRUE,申込書!H133=TRUE),"NG",IF(申込書!H63=TRUE,"申込",IF(申込書!H133=TRUE,"解約","×"))) -> ×
A35: 多言語配信 | D35: =+IF(AND(申込書!H65=TRUE,申込書!H135=TRUE),"NG",IF(申込書!H65=TRUE,"申込",IF(申込書!H135=TRUE,"解約","×"))) -> ×
A36: 添付ファイル送信 | D36: =+IF(AND(申込書!H67=TRUE,申込書!H137=TRUE),"NG",IF(申込書!H67=TRUE,"申込",IF(申込書!H137=TRUE,"解約","×"))) -> ×
A37: START TLS
A38: API連携 | D38: =+IF(AND(申込書!H74=TRUE,申込書!H144=TRUE),"NG",IF(申込書!H74=TRUE,"申込",IF(申込書!H144=TRUE,"解約","×"))) -> ×
A39: デコメ容量アップ | D39: ×
A40: 顧客データベース項目追加 | D40: =+IF(AND(申込書!H60=TRUE,申込書!H130=TRUE),"NG",IF(申込書!H60=TRUE,"申込",IF(申込書!H130=TRUE,"解約","×"))) -> ×
B41: 数量 | D41: =+IF(AND(申込書!I62=TRUE,申込書!M62=TRUE),"NG",IF(申込書!I62=TRUE,"50項目",IF(申込書!M62=TRUE,"100項目","×"))) -> ×
A42: 配信グループ追加 | D42: =+IF(AND(申込書!H86=TRUE,申込書!H158=TRUE),"NG",IF(申込書!H86=TRUE,"申込",IF(申込書!H158=TRUE,"解約","×"))) -> ×
B43: 数量 | D43: =+IF(AND(申込書!I88=TRUE,申込書!M88=TRUE),"NG",IF(申込書!I88=TRUE,"50グループ",IF(申込書!M88=TRUE,"100グループ","×"))) -> ×
A44: ユーザ数上限変更 | D44: =+IF(AND(申込書!H89=TRUE,申込書!H161=TRUE),"NG",IF(申込書!H89=TRUE,"申込",IF(申込書!H161=TRUE,"解約","×"))) -> ×
B45: 数量 | D45: =+IF(AND(申込書!I91=TRUE,申込書!M91=FALSE,申込書!I92=FALSE,申込書!M92=FALSE),"20ユーザ",IF(AND(申込書!I91=FALSE,申込書!M91=TRUE,申込書!I92=FALSE,申込書!M92=FALSE),"30ユーザ",IF(AND(申込書!I91=FALSE,申込書!M91=FALSE,申込書!I92=TRUE,申込書!M92=FALSE),"40ユーザ",IF(AND(申込書!I91=FALSE,申込書!M91=FALSE,申込書!I92=FALSE,申込書!M92=TRUE),"50ユーザ",IF(AND(申込書!I91=FALSE,申込書!M91=FALSE,申込書!I92=FALSE,申込書!M92=FALSE),"×","NG"))))) -> ×
A46: 配配メールコネクタ | D46: =+IF(AND(申込書!H76=TRUE,申込書!H146=TRUE),"NG",IF(申込書!H76=TRUE,"申込",IF(申込書!H146=TRUE,"解約","×"))) -> ×
A47: 配配メールコネクタ | B47: 連携数 | D47: =IF(AND(申込書!H76=TRUE,申込書!H146=TRUE),"NG",IF(AND(申込書!H76=TRUE,申込書!N78<>""),申込書!N78,IF(AND(申込書!H146=TRUE,申込書!N149<>""),申込書!N149,"×"))) -> ×
A48: ファイルストレージ | D48: =IF(AND(申込書!H69=TRUE,申込書!H139=TRUE),"NG",IF(申込書!H69=TRUE,"申込",IF(申込書!H139=TRUE,"解約","×"))) -> ×
A49: IPアドレス制限 | D49: =+IF(AND(申込書!H72=TRUE,申込書!H142=TRUE),"NG",IF(申込書!H72=TRUE,"申込",IF(申込書!H142=TRUE,"解約","×"))) -> ×
A50: 企業リストダウンロード | D50: =IF(AND(申込書!H93=TRUE,申込書!H165=TRUE),"NG",IF(申込書!H93=TRUE,"申込",IF(申込書!H165=TRUE,"解約","×"))) -> ×
A51: 企業リストダウンロード | B51: 個数 | D51: =IF(AND(申込書!H93=TRUE,申込書!H165=TRUE),"NG",IF(AND(申込書!H93=TRUE,申込書!K95<>""),申込書!K95,"×")) -> ×
A52: 配配メールコネクタ（Salesforce連携） | D52: =IF(AND(申込書!H79=TRUE,申込書!H150=TRUE),"NG",IF(申込書!H79=TRUE,"申込",IF(申込書!H150=TRUE,"解約","×"))) -> ×
A53: 配配メールコネクタ（Salesforce連携） | B53: 連携数 | D53: =IF(AND(申込書!H79=TRUE,申込書!H150=TRUE),"NG",IF(AND(申込書!H79=TRUE,申込書!N81<>""),申込書!N81,IF(AND(申込書!H150=TRUE,申込書!N153<>""),申込書!N153,"×"))) -> ×
A54: 配配メールコネクタ | B54: 解約URL | D54: =IF(AND(申込書!H76=TRUE,申込書!H146=TRUE),"NG",IF(AND(申込書!H79=TRUE,申込書!H150=TRUE),"NG",IF(AND(申込書!H146=TRUE,申込書!H154<>""),申込書!H154,IF(AND(申込書!H150=TRUE,申込書!H154<>""),申込書!H154,"×")))) -> ×
A55: 配配メールコネクタ | B55: 申込みURL | D55: =IF(AND(申込書!H76=TRUE,申込書!H146=TRUE),"NG",IF(AND(申込書!H79=TRUE,申込書!H150=TRUE),"NG",IF(AND(申込書!H76=TRUE,申込書!H82<>""),申込書!H82,IF(AND(申込書!H79=TRUE,申込書!H82<>""),申込書!H82,"×")))) -> ×
A56: 見積番号 | B56: 見積番号 | D56: =IF(申込書!K178<>"","RCL-"&申込書!K178,"")
A57: 日程調整プラス | D57: =+IF(AND(申込書!H84=TRUE,申込書!H156=TRUE),"NG",IF(申込書!H84=TRUE,"申込",IF(申込書!H156=TRUE,"解約","×"))) -> ×
A58: プレミアムサポートLite | D58: =IF(AND(申込書!H102=TRUE,申込書!H168=TRUE),"NG",IF(申込書!H102=TRUE,"申込",IF(申込書!H168=TRUE,"解約","×"))) -> ×
A59: プレミアムサポート | D59: =IF(AND(申込書!H104=TRUE,申込書!H169=TRUE),"NG",IF(申込書!H104=TRUE,"申込",IF(申込書!H169=TRUE,"解約","×"))) -> ×
A60: プレミアムサポート | B60: 配信回数 | D60: =IF(AND(申込書!H104=TRUE,申込書!H169=TRUE),"NG",IF(AND(申込書!H104=TRUE,申込書!N108<>""),申込書!N108,"×")) -> ×
A61: 契約者情報 | B61: 代表者名 | C61: 役職 | D61: =IF(申込書!$J$31<>"",申込書!$J$31,"")
A62: 契約者情報 | B62: 代表者名 | C62: 氏名 | D62: =IF(申込書!$J$32<>"",申込書!$J$32,"")
A63: 企業リストダウンロード | B63: 個数追加/削減 | D63: =IF(AND(申込書!H97=TRUE,申込書!H98=TRUE),"NG",IF(申込書!H97=TRUE,"個数追加",IF(申込書!H98=TRUE,"個数削減","×"))) -> ×
A64: 企業リストダウンロード | B64: 個数追加/削減 | C64: 個数 | D64: =IF(AND(申込書!H107=TRUE,申込書!H183=TRUE),"NG",IF(AND(申込書!H107=TRUE,申込書!K115<>""),申込書!K115,"×")) -> ×
A65: 名刺管理 | D65: =IF(AND(OR(申込書!H109=TRUE,申込書!H110=TRUE),申込書!H171=TRUE),"NG", IF(AND(申込書!H109=TRUE,申込書!H110=TRUE),"NG", IF(申込書!H109=TRUE,"新規申込", IF(申込書!H110=TRUE,"ユーザ追加数変更", IF(申込書!H171=TRUE,"解約","×"))))) -> ×
A66: 名刺管理 | B66: ユーザ数 | D66: =IF(申込書!L114<>"",申込書!L114,"×") -> ユーザ追加なし（10ユーザ以内で利用）

Sheet マスタ用
B2: 北海道 | C2: =+YEAR(TODAY()) -> 2026 | D2: 1 | E2: 1 | G2: オプション追加 | H2: FALSE | I2: 1 | J2: 2 | K2: 3 | P2: ユーザ追加なし（10ユーザ以内で利用）
B3: 青森県 | C3: =+YEAR(TODAY())+1 -> 2027 | D3: 2 | E3: 2 | G3: オプション解約 | H3: FALSE | I3: 2 | J3: 3 | K3: 4 | P3: 5ユーザ追加
B4: 岩手県 | D4: 3 | E4: 3 | G4: 解約同意 | H4: FALSE | I4: 3 | J4: 4 | K4: 5 | P4: 10ユーザ追加
B5: 宮城県 | D5: 4 | E5: 4 | I5: 4 | J5: 5 | K5: 6 | P5: 15ユーザ追加
B6: 秋田県 | D6: 5 | E6: 5 | I6: 5 | J6: 6 | K6: 7 | P6: 20ユーザ追加
B7: 山形県 | D7: 6 | E7: 6 | I7: 6 | J7: 7 | K7: 8 | P7: 25ユーザ追加
B8: 福島県 | D8: 7 | E8: 7 | I8: 7 | J8: 8 | K8: 9 | P8: 30ユーザ追加
B9: 群馬県 | D9: 8 | E9: 8 | I9: 8 | J9: 9 | K9: 10 | P9: 35ユーザ追加
B10: 茨城県 | D10: 9 | E10: 9 | I10: 9 | J10: 10 | K10: 11 | P10: 40ユーザ追加
B11: 栃木県 | D11: 10 | E11: 10 | I11: 10 | J11: 11 | K11: 12 | P11: 50ユーザ追加
B12: 埼玉県 | D12: 11 | E12: 11 | I12: 11 | J12: 12 | K12: 1 | P12: 60ユーザ追加
B13: 千葉県 | D13: 12 | E13: 12 | I13: 12 | J13: 1 | K13: 2 | P13: 70ユーザ追加
B14: 東京都 | E14: 13 | P14: 80ユーザ追加
B15: 神奈川県 | E15: 14 | P15: 90ユーザ追加
B16: 新潟県 | E16: 15 | P16: 100ユーザ追加
B17: 富山県 | E17: 16 | P17: 110ユーザ追加
B18: 石川県 | E18: 17 | P18: 120ユーザ追加
B19: 福井県 | E19: 18 | P19: 130ユーザ追加
B20: 山梨県 | E20: 19 | P20: 140ユーザ追加
B21: 長野県 | E21: 20 | P21: 150ユーザ追加
B22: 岐阜県 | E22: 21
B23: 静岡県 | E23: 22
B24: 愛知県 | E24: 23
B25: 三重県 | E25: 24
B26: 滋賀県 | E26: 25
B27: 京都府 | E27: 26
B28: 大阪府 | E28: 27
B29: 兵庫県 | E29: 28
B30: 奈良県 | E30: 29
B31: 和歌山県 | E31: 30
B32: 鳥取県 | E32: 31
B33: 島根県
B34: 岡山県
B35: 広島県
B36: 山口県
B37: 徳島県
B38: 香川県
B39: 愛媛県
B40: 高知県
B41: 福岡県
B42: 佐賀県
B43: 長崎県
B44: 熊本県
... B48: 沖縄県
